BEGIN:VCALENDAR
PRODID:-//Riksbanken//riksbanken.se//SV
VERSION:2.0
BEGIN:VEVENT
DTSTART:20160405T080000Z
DTSTAMP:20260423T170026Z
UID:bec65ec3f86946c582ecc1a93e80161d
CREATED:20260423T170026Z
DESCRIPTION:Excess Volatility: Beyond Discount Rates
LAST-MODIFIED:20260423T170026Z
LOCATION:
SEQUENCE:0
STATUS:CONFIRMED
SUMMARY:Stefano Giglio, Chicago Booth
TRANSP:OPAQUE
END:VEVENT
END:VCALENDAR
