BEGIN:VCALENDAR
PRODID:-//Riksbanken//riksbanken.se//SV
VERSION:2.0
BEGIN:VEVENT
DTSTART:20160413T110000Z
DTSTAMP:20260423T170042Z
UID:317109e5b6824386ae4ba92700c57462
CREATED:20260423T170042Z
DESCRIPTION:New views of monetary policy
LAST-MODIFIED:20260423T170042Z
LOCATION:
SEQUENCE:0
STATUS:CONFIRMED
SUMMARY:John Cochrane, Stanford University
TRANSP:OPAQUE
END:VEVENT
END:VCALENDAR
