BEGIN:VCALENDAR
PRODID:-//Riksbanken//riksbanken.se//SV
VERSION:2.0
BEGIN:VEVENT
DTSTART:20160419T110000Z
DTSTAMP:20260423T170032Z
UID:a495cc22e7a54fdba0a87b4ac1b943bb
CREATED:20260423T170032Z
DESCRIPTION:The Macro-dynamics of Sorting between Workers and Firms
LAST-MODIFIED:20260423T170032Z
LOCATION:
SEQUENCE:0
STATUS:CONFIRMED
SUMMARY:Jeremy Lise, UCL
TRANSP:OPAQUE
END:VEVENT
END:VCALENDAR
