BEGIN:VCALENDAR
PRODID:-//Riksbanken//riksbanken.se//SV
VERSION:2.0
BEGIN:VEVENT
DTSTART:20160426T110000Z
DTSTAMP:20260423T170042Z
UID:39e24e47936548bfb26648c7f7b9c7ea
CREATED:20260423T170042Z
DESCRIPTION:Search-Based Endogenous Asset Liquidity and the Macroeconomy
LAST-MODIFIED:20260423T170042Z
LOCATION:
SEQUENCE:0
STATUS:CONFIRMED
SUMMARY:Wei Cui, UCL
TRANSP:OPAQUE
END:VEVENT
END:VCALENDAR
