BEGIN:VCALENDAR
PRODID:-//Riksbanken//riksbanken.se//SV
VERSION:2.0
BEGIN:VEVENT
DTSTART:20160503T110000Z
DTSTAMP:20260423T210403Z
UID:726a58b5c37d41d7a16ffdc620e6e318
CREATED:20260423T210403Z
DESCRIPTION:TBA
LAST-MODIFIED:20260423T210403Z
LOCATION:
SEQUENCE:0
STATUS:CONFIRMED
SUMMARY:Alexander Ludwig, Goethe University
TRANSP:OPAQUE
END:VEVENT
END:VCALENDAR
