BEGIN:VCALENDAR
PRODID:-//Riksbanken//riksbanken.se//SV
VERSION:2.0
BEGIN:VEVENT
DTSTART:20160520T070000Z
DTSTAMP:20260423T210403Z
UID:a22a1f46a2b6423baabd647ee432c789
CREATED:20260423T210403Z
DESCRIPTION:Optimal Margins and Equilibrium Prices
LAST-MODIFIED:20260423T210403Z
LOCATION:
SEQUENCE:0
STATUS:CONFIRMED
SUMMARY:Florian Heider, ECB
TRANSP:OPAQUE
END:VEVENT
END:VCALENDAR
