BEGIN:VCALENDAR
PRODID:-//Riksbanken//riksbanken.se//SV
VERSION:2.0
BEGIN:VEVENT
DTSTART:20160524T110000Z
DTSTAMP:20260423T210403Z
UID:c9341a80494e4644a8023ef654b7f429
CREATED:20260423T210403Z
DESCRIPTION:Macro Risks and the Term Structure
LAST-MODIFIED:20260423T210403Z
LOCATION:
SEQUENCE:0
STATUS:CONFIRMED
SUMMARY:Geert Bekaert, Columbia University
TRANSP:OPAQUE
END:VEVENT
END:VCALENDAR
