BEGIN:VCALENDAR
PRODID:-//Riksbanken//riksbanken.se//SV
VERSION:2.0
BEGIN:VEVENT
DTSTART:20160602T110000Z
DTSTAMP:20260423T104710Z
UID:85b200933408445da52099db101b7a56
CREATED:20260423T104710Z
DESCRIPTION:QE in the future
LAST-MODIFIED:20260423T104710Z
LOCATION:
SEQUENCE:0
STATUS:CONFIRMED
SUMMARY:Ricardo Reis, Columbia University
TRANSP:OPAQUE
END:VEVENT
END:VCALENDAR
