BEGIN:VCALENDAR
PRODID:-//Riksbanken//riksbanken.se//SV
VERSION:2.0
BEGIN:VEVENT
DTSTART:20170607T110000Z
DTSTAMP:20260423T104708Z
UID:16b1e13b9b42437f9ce9a75016d9f712
CREATED:20260423T104708Z
DESCRIPTION:Clearing Up the Fiscal Multiplier Morass
LAST-MODIFIED:20260423T104708Z
LOCATION:
SEQUENCE:0
STATUS:CONFIRMED
SUMMARY:Eric M. Leeper, Indiana University
TRANSP:OPAQUE
END:VEVENT
END:VCALENDAR
