BEGIN:VCALENDAR
PRODID:-//Riksbanken//riksbanken.se//SV
VERSION:2.0
BEGIN:VEVENT
DTSTART:20160609T090000Z
DTSTAMP:20260423T104917Z
UID:551e5f72b3864a32a586a5cc2daa7512
CREATED:20260423T104917Z
DESCRIPTION:Does the New Keynesian Model Have a Uniqueness Problem?
LAST-MODIFIED:20260423T104917Z
LOCATION:
SEQUENCE:0
STATUS:CONFIRMED
SUMMARY:Lawrence Christiano, Northwestern University
TRANSP:OPAQUE
END:VEVENT
END:VCALENDAR
