BEGIN:VCALENDAR
PRODID:-//Riksbanken//riksbanken.se//SV
VERSION:2.0
BEGIN:VEVENT
DTSTART:20160614T110000Z
DTSTAMP:20260423T104733Z
UID:c7c9cc5d419a4940b0b6003451542840
CREATED:20260423T104733Z
DESCRIPTION:TBA
LAST-MODIFIED:20260423T104733Z
LOCATION:
SEQUENCE:0
STATUS:CONFIRMED
SUMMARY:Jose Liberti, DePaul University
TRANSP:OPAQUE
END:VEVENT
END:VCALENDAR
