BEGIN:VCALENDAR
PRODID:-//Riksbanken//riksbanken.se//SV
VERSION:2.0
BEGIN:VEVENT
DTSTART:20160621T110000Z
DTSTAMP:20260423T104710Z
UID:29fe8ec6c09243578d4b3660b22eb2b7
CREATED:20260423T104710Z
DESCRIPTION:Statistical Discrimination and Duration Dependence in the Job Finding Rate
LAST-MODIFIED:20260423T104710Z
LOCATION:
SEQUENCE:0
STATUS:CONFIRMED
SUMMARY:Gregor Jarosch, Princeton University
TRANSP:OPAQUE
END:VEVENT
END:VCALENDAR
