BEGIN:VCALENDAR
PRODID:-//Riksbanken//riksbanken.se//SV
VERSION:2.0
BEGIN:VEVENT
DTSTART:20160816T110000Z
DTSTAMP:20260423T104731Z
UID:17ed8409b53a459b910ef70146733300
CREATED:20260423T104731Z
DESCRIPTION:Speed and Efficiency of Markets: Empirical Evidence from NASDAQ OMX Nordic Exchanges
LAST-MODIFIED:20260423T104731Z
LOCATION:
SEQUENCE:0
STATUS:CONFIRMED
SUMMARY:Patrik Sandås, Virginia University
TRANSP:OPAQUE
END:VEVENT
END:VCALENDAR
