BEGIN:VCALENDAR
PRODID:-//Riksbanken//riksbanken.se//SV
VERSION:2.0
BEGIN:VEVENT
DTSTART:20160830T110000Z
DTSTAMP:20260423T104709Z
UID:61a288378fb34b408cd48fb1eb4a6ca4
CREATED:20260423T104709Z
DESCRIPTION:Life Below Zero: Negative Policy Rates and Bank Risk Taking
LAST-MODIFIED:20260423T104709Z
LOCATION:
SEQUENCE:0
STATUS:CONFIRMED
SUMMARY:Farzad Saidi, Stockholm School of Economics
TRANSP:OPAQUE
END:VEVENT
END:VCALENDAR
