BEGIN:VCALENDAR
PRODID:-//Riksbanken//riksbanken.se//SV
VERSION:2.0
BEGIN:VEVENT
DTSTART:20160906T110000Z
DTSTAMP:20260423T104917Z
UID:73b5b50a23e4457b97b11e40078197c3
CREATED:20260423T104917Z
DESCRIPTION:TBA
LAST-MODIFIED:20260423T104917Z
LOCATION:
SEQUENCE:0
STATUS:CONFIRMED
SUMMARY:Martin D Evans, Georgetown University
TRANSP:OPAQUE
END:VEVENT
END:VCALENDAR
