BEGIN:VCALENDAR
PRODID:-//Riksbanken//riksbanken.se//SV
VERSION:2.0
BEGIN:VEVENT
DTSTART:20160913T110000Z
DTSTAMP:20260423T105039Z
UID:af50e1a97d9f495590f3ab942758cbe6
CREATED:20260423T105039Z
DESCRIPTION:When Do Laws and Institutions Affect Recovery Rates on Collateral?
LAST-MODIFIED:20260423T105039Z
LOCATION:
SEQUENCE:0
STATUS:CONFIRMED
SUMMARY:Vasso Ioannidou, Lancaster University
TRANSP:OPAQUE
END:VEVENT
END:VCALENDAR
