BEGIN:VCALENDAR
PRODID:-//Riksbanken//riksbanken.se//SV
VERSION:2.0
BEGIN:VEVENT
DTSTART:20160915T110000Z
DTSTAMP:20260423T105137Z
UID:151ee84878cc40f4a450ba2f1aa966c2
CREATED:20260423T105137Z
DESCRIPTION:Inequality and Aggregate Demand
LAST-MODIFIED:20260423T105137Z
LOCATION:
SEQUENCE:0
STATUS:CONFIRMED
SUMMARY:Adrien Auclert, Stanford University
TRANSP:OPAQUE
END:VEVENT
END:VCALENDAR
