BEGIN:VCALENDAR
PRODID:-//Riksbanken//riksbanken.se//SV
VERSION:2.0
BEGIN:VEVENT
DTSTART:20170920T110000Z
DTSTAMP:20260423T104958Z
UID:73722c41ce3942ea9c7f24f887f3e187
CREATED:20260423T104958Z
DESCRIPTION:Income Changes and Consumption: Evidence from the 2013 Federal Government Shutdown
LAST-MODIFIED:20260423T104958Z
LOCATION:
SEQUENCE:0
STATUS:CONFIRMED
SUMMARY:Scott Baker, Kellogg School of Management
TRANSP:OPAQUE
END:VEVENT
END:VCALENDAR
