BEGIN:VCALENDAR
PRODID:-//Riksbanken//riksbanken.se//SV
VERSION:2.0
BEGIN:VEVENT
DTSTART:20160927T110000Z
DTSTAMP:20260423T105040Z
UID:14e4bb0181324ca680ca7fc6ccadee80
CREATED:20260423T105040Z
DESCRIPTION:TBA
LAST-MODIFIED:20260423T105040Z
LOCATION:
SEQUENCE:0
STATUS:CONFIRMED
SUMMARY:Hiroatsu Tanaka, Board of Governors
TRANSP:OPAQUE
END:VEVENT
END:VCALENDAR
