BEGIN:VCALENDAR
PRODID:-//Riksbanken//riksbanken.se//SV
VERSION:2.0
BEGIN:VEVENT
DTSTART:20161011T090000Z
DTSTAMP:20260423T120322Z
UID:52932b68b11946d384c2f9bbaab1c83d
CREATED:20260423T120322Z
DESCRIPTION:The Effect of Mortgage Credit Availability on House Prices and Construction: Evidence from a Frontier Estimation Approach
LAST-MODIFIED:20260423T120322Z
LOCATION:
SEQUENCE:0
STATUS:CONFIRMED
SUMMARY:Edward Kung, UCLA
TRANSP:OPAQUE
END:VEVENT
END:VCALENDAR
