BEGIN:VCALENDAR
PRODID:-//Riksbanken//riksbanken.se//SV
VERSION:2.0
BEGIN:VEVENT
DTSTART:20161019T110000Z
DTSTAMP:20260423T120251Z
UID:5e2799c41d954f71ba7ee498642566cb
CREATED:20260423T120251Z
DESCRIPTION:Adverse Selection on Maturity: Evidence from Online Consumer Credit?
LAST-MODIFIED:20260423T120251Z
LOCATION:
SEQUENCE:0
STATUS:CONFIRMED
SUMMARY:Daniel Paravisini, LSE
TRANSP:OPAQUE
END:VEVENT
END:VCALENDAR
