BEGIN:VCALENDAR
PRODID:-//Riksbanken//riksbanken.se//SV
VERSION:2.0
BEGIN:VEVENT
DTSTART:20161021T110000Z
DTSTAMP:20260423T120235Z
UID:888d4c7d417145f98d6442e997e879e3
CREATED:20260423T120235Z
DESCRIPTION:Macroeconomics of Bank Capital and Liquidity Regulations
LAST-MODIFIED:20260423T120235Z
LOCATION:
SEQUENCE:0
STATUS:CONFIRMED
SUMMARY:Frederic Boissy, BIS
TRANSP:OPAQUE
END:VEVENT
END:VCALENDAR
