BEGIN:VCALENDAR
PRODID:-//Riksbanken//riksbanken.se//SV
VERSION:2.0
BEGIN:VEVENT
DTSTART:20161025T110000Z
DTSTAMP:20260423T120321Z
UID:0b6367ed1cf14ebdb3d46db385805f52
CREATED:20260423T120321Z
DESCRIPTION:Home Price Expectations and Behavior: Evidence from a Randomized Information Experiment
LAST-MODIFIED:20260423T120321Z
LOCATION:
SEQUENCE:0
STATUS:CONFIRMED
SUMMARY:Basit Zafar, Federal Reserve Bank of New York
TRANSP:OPAQUE
END:VEVENT
END:VCALENDAR
