BEGIN:VCALENDAR
PRODID:-//Riksbanken//riksbanken.se//SV
VERSION:2.0
BEGIN:VEVENT
DTSTART:20161030T230000Z
DTSTAMP:20260423T120251Z
UID:30a423a384a8423999654864dbcf20ea
CREATED:20260423T120251Z
DESCRIPTION:Monetary and Fiscal Policy Interactions: Leeper (1991) Redux
LAST-MODIFIED:20260423T120251Z
LOCATION:
SEQUENCE:0
STATUS:CONFIRMED
SUMMARY:Guido Ascari, Oxford University
TRANSP:OPAQUE
END:VEVENT
END:VCALENDAR
