BEGIN:VCALENDAR
PRODID:-//Riksbanken//riksbanken.se//SV
VERSION:2.0
BEGIN:VEVENT
DTSTART:20161102T120000Z
DTSTAMP:20260423T210245Z
UID:e940ca318d674cd89d4c6e537d85c2da
CREATED:20260423T210245Z
DESCRIPTION:Does a Larger Menu Increase Appetite? Collateral Eligibility and Bank Risk-Taking?
LAST-MODIFIED:20260423T210245Z
LOCATION:
SEQUENCE:0
STATUS:CONFIRMED
SUMMARY:Marc Gabarro, Erasmus School of Economics
TRANSP:OPAQUE
END:VEVENT
END:VCALENDAR
