BEGIN:VCALENDAR
PRODID:-//Riksbanken//riksbanken.se//SV
VERSION:2.0
BEGIN:VEVENT
DTSTART:20171108T120000Z
DTSTAMP:20260423T210403Z
UID:281afd90cc944d1d9abfbb08d760f015
CREATED:20260423T210403Z
DESCRIPTION:Rich Pickings? Risk, Return, and Skill in the Portfolios of the Wealthy
LAST-MODIFIED:20260423T210403Z
LOCATION:
SEQUENCE:0
STATUS:CONFIRMED
SUMMARY:Laurent Bach, SSE
TRANSP:OPAQUE
END:VEVENT
END:VCALENDAR
