BEGIN:VCALENDAR
PRODID:-//Riksbanken//riksbanken.se//SV
VERSION:2.0
BEGIN:VEVENT
DTSTART:20161115T120000Z
DTSTAMP:20260423T210429Z
UID:29fc854db5394d4ab313bd7f3a369efb
CREATED:20260423T210429Z
DESCRIPTION:Recession Forecasting Using Bayesian Classication
LAST-MODIFIED:20260423T210429Z
LOCATION:
SEQUENCE:0
STATUS:CONFIRMED
SUMMARY:Troy Davig, Kansas City Fed
TRANSP:OPAQUE
END:VEVENT
END:VCALENDAR
