BEGIN:VCALENDAR
PRODID:-//Riksbanken//riksbanken.se//SV
VERSION:2.0
BEGIN:VEVENT
DTSTART:20161122T120000Z
DTSTAMP:20260423T210429Z
UID:893ea0c9da084d7388bc1839b17c96c2
CREATED:20260423T210429Z
DESCRIPTION:Bank business models at zero interest rates
LAST-MODIFIED:20260423T210429Z
LOCATION:
SEQUENCE:0
STATUS:CONFIRMED
SUMMARY:Bernd Schwaab, ECB
TRANSP:OPAQUE
END:VEVENT
END:VCALENDAR
