BEGIN:VCALENDAR
PRODID:-//Riksbanken//riksbanken.se//SV
VERSION:2.0
BEGIN:VEVENT
DTSTART:20161201T120000Z
DTSTAMP:20260423T120234Z
UID:e4d771a1c9fd495c8d90825eaed711a2
CREATED:20260423T120234Z
DESCRIPTION:TBA
LAST-MODIFIED:20260423T120234Z
LOCATION:
SEQUENCE:0
STATUS:CONFIRMED
SUMMARY:Michael Kiley, Federal Reserve Board
TRANSP:OPAQUE
END:VEVENT
END:VCALENDAR
