BEGIN:VCALENDAR
PRODID:-//Riksbanken//riksbanken.se//SV
VERSION:2.0
BEGIN:VEVENT
DTSTART:20161206T120000Z
DTSTAMP:20260423T132648Z
UID:9adacf0e085d4fc190e8600385fa6fc3
CREATED:20260423T132648Z
DESCRIPTION:What hides behind the German labor market miracle? A macroeconomic analysis
LAST-MODIFIED:20260423T132648Z
LOCATION:
SEQUENCE:0
STATUS:CONFIRMED
SUMMARY:Philip Jung, Dortmund University
TRANSP:OPAQUE
END:VEVENT
END:VCALENDAR
