BEGIN:VCALENDAR
PRODID:-//Riksbanken//riksbanken.se//SV
VERSION:2.0
BEGIN:VEVENT
DTSTART:20161213T120000Z
DTSTAMP:20260423T120348Z
UID:0b1cdec5cd0f48848e13de5c1ea43927
CREATED:20260423T120348Z
DESCRIPTION:Does Central Bank Tone Move Asset Prices?
LAST-MODIFIED:20260423T120348Z
LOCATION:
SEQUENCE:0
STATUS:CONFIRMED
SUMMARY:Christian Wagner, Copenhagen Business School
TRANSP:OPAQUE
END:VEVENT
END:VCALENDAR
