BEGIN:VCALENDAR
PRODID:-//Riksbanken//riksbanken.se//SV
VERSION:2.0
BEGIN:VEVENT
DTSTART:20161220T120000Z
DTSTAMP:20260423T120737Z
UID:a212da90a2bd4d73b3e544cb98052c4b
CREATED:20260423T120737Z
DESCRIPTION:Expectations, Stagnation and Fiscal Policy
LAST-MODIFIED:20260423T120737Z
LOCATION:
SEQUENCE:0
STATUS:CONFIRMED
SUMMARY:Seppo Honkapohja, Bank of Finland
TRANSP:OPAQUE
END:VEVENT
END:VCALENDAR
