BEGIN:VCALENDAR
PRODID:-//Riksbanken//riksbanken.se//SV
VERSION:2.0
BEGIN:VEVENT
DTSTART:20170118T120000Z
DTSTAMP:20260419T223743Z
UID:3c3715556d9e4a0593c3ab15d61eab7b
CREATED:20260419T223743Z
DESCRIPTION:TBA
LAST-MODIFIED:20260419T223743Z
LOCATION:
SEQUENCE:0
STATUS:CONFIRMED
SUMMARY:Hans Degryse, KU Leuven
TRANSP:OPAQUE
END:VEVENT
END:VCALENDAR
