BEGIN:VCALENDAR
PRODID:-//Riksbanken//riksbanken.se//SV
VERSION:2.0
BEGIN:VEVENT
DTSTART:20170131T120000Z
DTSTAMP:20260421T084731Z
UID:647803acafce4677a67b3382fa592ad0
CREATED:20260421T084731Z
DESCRIPTION:The macroeconomics of central bank issued digital currencies
LAST-MODIFIED:20260421T084731Z
LOCATION:
SEQUENCE:0
STATUS:CONFIRMED
SUMMARY:Michael Kumhof, Bank of England
TRANSP:OPAQUE
END:VEVENT
END:VCALENDAR
