BEGIN:VCALENDAR
PRODID:-//Riksbanken//riksbanken.se//SV
VERSION:2.0
BEGIN:VEVENT
DTSTART:20170307T120000Z
DTSTAMP:20260419T232745Z
UID:af0f96bb0a54419f845f751a7f4942e2
CREATED:20260419T232745Z
DESCRIPTION:Learning, Confidence, and Business Cycles
LAST-MODIFIED:20260419T232745Z
LOCATION:
SEQUENCE:0
STATUS:CONFIRMED
SUMMARY:Cosmin Ilut, Duke University
TRANSP:OPAQUE
END:VEVENT
END:VCALENDAR
