BEGIN:VCALENDAR
PRODID:-//Riksbanken//riksbanken.se//SV
VERSION:2.0
BEGIN:VEVENT
DTSTART:20170314T120000Z
DTSTAMP:20260423T210214Z
UID:e644de6839284b24893b18aa0a8f12a6
CREATED:20260423T210214Z
DESCRIPTION:Identifying the Benefits from Home Ownership: A Swedish Experiment
LAST-MODIFIED:20260423T210214Z
LOCATION:
SEQUENCE:0
STATUS:CONFIRMED
SUMMARY:Paolo Sodini, HHS
TRANSP:OPAQUE
END:VEVENT
END:VCALENDAR
