BEGIN:VCALENDAR
PRODID:-//Riksbanken//riksbanken.se//SV
VERSION:2.0
BEGIN:VEVENT
DTSTART:20170321T120000Z
DTSTAMP:20260419T232706Z
UID:31b7e110f741453cba2eb623a9d88699
CREATED:20260419T232706Z
DESCRIPTION:Expenditures and financial well-being
LAST-MODIFIED:20260419T232706Z
LOCATION:
SEQUENCE:0
STATUS:CONFIRMED
SUMMARY:Francisco Gomes, London Business School
TRANSP:OPAQUE
END:VEVENT
END:VCALENDAR
