BEGIN:VCALENDAR
PRODID:-//Riksbanken//riksbanken.se//SV
VERSION:2.0
BEGIN:VEVENT
DTSTART:20170331T110000Z
DTSTAMP:20260419T232914Z
UID:2aacebb95fa9405680e28a131f3c1d2e
CREATED:20260419T232914Z
DESCRIPTION:Monetary and Financial Policies in Emerging Markets
LAST-MODIFIED:20260419T232914Z
LOCATION:
SEQUENCE:0
STATUS:CONFIRMED
SUMMARY:Nobu Kiyotaki, Princeton University
TRANSP:OPAQUE
END:VEVENT
END:VCALENDAR
