BEGIN:VCALENDAR
PRODID:-//Riksbanken//riksbanken.se//SV
VERSION:2.0
BEGIN:VEVENT
DTSTART:20170404T110000Z
DTSTAMP:20260420T030302Z
UID:9ad852a7ee934241906682cdf3a2dd05
CREATED:20260420T030302Z
DESCRIPTION:TBA
LAST-MODIFIED:20260420T030302Z
LOCATION:
SEQUENCE:0
STATUS:CONFIRMED
SUMMARY:Michael Ehrmann, ECB
TRANSP:OPAQUE
END:VEVENT
END:VCALENDAR
