BEGIN:VCALENDAR
PRODID:-//Riksbanken//riksbanken.se//SV
VERSION:2.0
BEGIN:VEVENT
DTSTART:20170411T110000Z
DTSTAMP:20260420T025659Z
UID:4c86f5a598e043548e14e1297191eb7b
CREATED:20260420T025659Z
DESCRIPTION:Who Becomes a Politician?
LAST-MODIFIED:20260420T025659Z
LOCATION:
SEQUENCE:0
STATUS:CONFIRMED
SUMMARY:Torsten Persson, IIES
TRANSP:OPAQUE
END:VEVENT
END:VCALENDAR
