BEGIN:VCALENDAR
PRODID:-//Riksbanken//riksbanken.se//SV
VERSION:2.0
BEGIN:VEVENT
DTSTART:20170418T110000Z
DTSTAMP:20260423T210117Z
UID:2cdf67d8cd674e45822685c328baf0cf
CREATED:20260423T210117Z
DESCRIPTION:Technological Revolutions and the Three Great Slumps: A Medium-Run Analysis
LAST-MODIFIED:20260423T210117Z
LOCATION:
SEQUENCE:0
STATUS:CONFIRMED
SUMMARY:Jean-Paul L'Huillier, EIEF
TRANSP:OPAQUE
END:VEVENT
END:VCALENDAR
