BEGIN:VCALENDAR
PRODID:-//Riksbanken//riksbanken.se//SV
VERSION:2.0
BEGIN:VEVENT
DTSTART:20170427T110000Z
DTSTAMP:20260423T210117Z
UID:6e34dd6a8dc94efa839671261b2f5865
CREATED:20260423T210117Z
DESCRIPTION:Securities Lending as Wholesale Funding: Evidence from the US Life Insurance Industry
LAST-MODIFIED:20260423T210117Z
LOCATION:
SEQUENCE:0
STATUS:CONFIRMED
SUMMARY:Nathan Foley-Fisher, Federal Reserve Board of Governors
TRANSP:OPAQUE
END:VEVENT
END:VCALENDAR
