BEGIN:VCALENDAR
PRODID:-//Riksbanken//riksbanken.se//SV
VERSION:2.0
BEGIN:VEVENT
DTSTART:20170502T110000Z
DTSTAMP:20260423T210123Z
UID:4e4c9e466cfb42348d4e6f46e2b9d471
CREATED:20260423T210123Z
DESCRIPTION:Financial Vulnerability and Monetary Policy
LAST-MODIFIED:20260423T210123Z
LOCATION:
SEQUENCE:0
STATUS:CONFIRMED
SUMMARY:Fernando Duarte, Federal Reserve Bank of New York
TRANSP:OPAQUE
END:VEVENT
END:VCALENDAR
