BEGIN:VCALENDAR
PRODID:-//Riksbanken//riksbanken.se//SV
VERSION:2.0
BEGIN:VEVENT
DTSTART:20170509T110000Z
DTSTAMP:20260423T210314Z
UID:5fbdca21378345aa8370d06f2c81db41
CREATED:20260423T210314Z
DESCRIPTION:Mortgage Rates and Credit Risk: Evidence from Mortgage Pools
LAST-MODIFIED:20260423T210314Z
LOCATION:
SEQUENCE:0
STATUS:CONFIRMED
SUMMARY:Gaetano Antinolfi, Washington University in St.Louis
TRANSP:OPAQUE
END:VEVENT
END:VCALENDAR
