BEGIN:VCALENDAR
PRODID:-//Riksbanken//riksbanken.se//SV
VERSION:2.0
BEGIN:VEVENT
DTSTART:20170516T110000Z
DTSTAMP:20260423T210214Z
UID:be218144370c40a7af1bf26c8c38eaa5
CREATED:20260423T210214Z
DESCRIPTION:Debt and Human Capital: Evidence from Student Loans
LAST-MODIFIED:20260423T210214Z
LOCATION:
SEQUENCE:0
STATUS:CONFIRMED
SUMMARY:Andres Liberman, New York University, Stern School of Business
TRANSP:OPAQUE
END:VEVENT
END:VCALENDAR
