BEGIN:VCALENDAR
PRODID:-//Riksbanken//riksbanken.se//SV
VERSION:2.0
BEGIN:VEVENT
DTSTART:20170518T110000Z
DTSTAMP:20260423T210214Z
UID:aceacaaf6b9a40989f6570f9799e399d
CREATED:20260423T210214Z
DESCRIPTION:Scott Frame, Federal Reserve bank of Atlanta
Foreign Investment, Regulatory Arbitrage, and the Risk of U.S. Banking Organizations
LAST-MODIFIED:20260423T210214Z
LOCATION:
SEQUENCE:0
STATUS:CONFIRMED
SUMMARY:Scott Frame, Federal Reserve bank of Atlanta
TRANSP:OPAQUE
END:VEVENT
END:VCALENDAR
