BEGIN:VCALENDAR
PRODID:-//Riksbanken//riksbanken.se//SV
VERSION:2.0
BEGIN:VEVENT
DTSTART:20170523T110000Z
DTSTAMP:20260423T210214Z
UID:efb9724c872440e6aab4f7936a51b103
CREATED:20260423T210214Z
DESCRIPTION:Collateral Constraints and Macroeconomic Asymmetries
LAST-MODIFIED:20260423T210214Z
LOCATION:
SEQUENCE:0
STATUS:CONFIRMED
SUMMARY:Matteo Iacoviello, Federal Reserve Board
TRANSP:OPAQUE
END:VEVENT
END:VCALENDAR
