BEGIN:VCALENDAR
PRODID:-//Riksbanken//riksbanken.se//SV
VERSION:2.0
BEGIN:VEVENT
DTSTART:20170530T110000Z
DTSTAMP:20260423T210123Z
UID:6cc0b20e46c848b38ce13f334f57bfc7
CREATED:20260423T210123Z
DESCRIPTION:Hours, Occupations and the Gender Wage Gap
LAST-MODIFIED:20260423T210123Z
LOCATION:
SEQUENCE:0
STATUS:CONFIRMED
SUMMARY:Richard Rogerson, Princeton University
TRANSP:OPAQUE
END:VEVENT
END:VCALENDAR
