BEGIN:VCALENDAR
PRODID:-//Riksbanken//riksbanken.se//SV
VERSION:2.0
BEGIN:VEVENT
DTSTART:20170609T090000Z
DTSTAMP:20260420T025757Z
UID:e32a1a0820bd4c68b92acbd3c5a09abd
CREATED:20260420T025757Z
DESCRIPTION:A Real Estate Boom with Chinese Characteristics and Do People Shape Cities, Or Do Cities Shape People? The Co-Evolution of Physical, Social, and Economic Change in Five Major U.S. Cities.
LAST-MODIFIED:20260420T025757Z
LOCATION:
SEQUENCE:0
STATUS:CONFIRMED
SUMMARY:Edward Glaeser, Harvard University
TRANSP:OPAQUE
END:VEVENT
END:VCALENDAR
