BEGIN:VCALENDAR
PRODID:-//Riksbanken//riksbanken.se//SV
VERSION:2.0
BEGIN:VEVENT
DTSTART:20170615T090000Z
DTSTAMP:20260420T030123Z
UID:b5e20263229f43ce95132b0c90a85160
CREATED:20260420T030123Z
DESCRIPTION:A Behavioral New Keynesian Model
LAST-MODIFIED:20260420T030123Z
LOCATION:
SEQUENCE:0
STATUS:CONFIRMED
SUMMARY:Xavier Gabaix, Harvard University
TRANSP:OPAQUE
END:VEVENT
END:VCALENDAR
